BEGIN:VCALENDAR
VERSION:2.0
PRODID:llida.georgia.gov
X-WR-TIMEZONE:America/New_York
BEGIN:VTIMEZONE
TZID:America/New_York
X-LIC-LOCATION:America/New_York
END:VTIMEZONE
BEGIN:VEVENT
UID:613a53d21e784
DTSTART;TZID=UTC:20211015T123000
SEQUENCE:0
TRANSP:OPAQUE
DTEND;TZID=UTC:20211015T133000
URL:https://llida.georgia.gov/events/2021-10-15/october-12-2021-board-meeti
 ng
SUMMARY:October 12\, 2021 Board Meeting
CLASS:PUBLIC
DTSTAMP:20210909T143458Z
END:VEVENT
END:VCALENDAR