BEGIN:VCALENDAR
VERSION:2.0
PRODID:llida.georgia.gov
X-WR-TIMEZONE:America/New_York
BEGIN:VTIMEZONE
TZID:America/New_York
X-LIC-LOCATION:America/New_York
END:VTIMEZONE
BEGIN:VEVENT
UID:613a94567c811
DTSTART;TZID=UTC:20210416T123000
SEQUENCE:0
TRANSP:OPAQUE
DTEND;TZID=UTC:20210416T133000
URL:https://llida.georgia.gov/events/2021-04-16/april-16-2021-board-meeting
SUMMARY:April 16\, 2021 Board Meeting
CLASS:PUBLIC
DTSTAMP:20210909T191014Z
END:VEVENT
END:VCALENDAR