BEGIN:VCALENDAR
VERSION:2.0
PRODID:llida.georgia.gov
X-WR-TIMEZONE:America/New_York
BEGIN:VTIMEZONE
TZID:America/New_York
X-LIC-LOCATION:America/New_York
END:VTIMEZONE
BEGIN:VEVENT
UID:613a945c79dae
DTSTART;TZID=UTC:20210219T133000
SEQUENCE:0
TRANSP:OPAQUE
DTEND;TZID=UTC:20210219T143000
URL:https://llida.georgia.gov/events/2021-02-19/february-19-2021-board-meet
 ing
SUMMARY:February 19\, 2021 Board Meeting
CLASS:PUBLIC
DTSTAMP:20210909T191020Z
END:VEVENT
END:VCALENDAR