BEGIN:VCALENDAR
VERSION:2.0
PRODID:llida.georgia.gov
X-WR-TIMEZONE:America/New_York
BEGIN:VTIMEZONE
TZID:America/New_York
X-LIC-LOCATION:America/New_York
END:VTIMEZONE
BEGIN:VEVENT
UID:613a9462645f8
DTSTART;TZID=UTC:20201211T133000
SEQUENCE:0
TRANSP:OPAQUE
DTEND;TZID=UTC:20201211T150000
URL:https://llida.georgia.gov/events/2020-12-11/december-11-2020-lake-lanie
 r-islands-development-authority-board-meeting
LOCATION:7000 Lanier Islands Pkwy BUFORD\, GA 30518
SUMMARY:December 11\, 2020 Lake Lanier Islands Development Authority Board 
 Meeting
CLASS:PUBLIC
DTSTAMP:20210909T191026Z
END:VEVENT
END:VCALENDAR