BEGIN:VCALENDAR
VERSION:2.0
PRODID:llida.georgia.gov
X-WR-TIMEZONE:America/New_York
BEGIN:VTIMEZONE
TZID:America/New_York
X-LIC-LOCATION:America/New_York
END:VTIMEZONE
BEGIN:VEVENT
UID:613a94682821a
DTSTART;TZID=UTC:20201016T123000
SEQUENCE:0
TRANSP:OPAQUE
DTEND;TZID=UTC:20201016T140000
URL:https://llida.georgia.gov/events/2020-10-16/october-16-2020-lake-lanier
 -islands-development-authority-board-meeting
LOCATION:7000 Lanier Islands Pkwy BUFORD\, GA 30518
SUMMARY:October 16\, 2020 Lake Lanier Islands Development Authority Board M
 eeting
CLASS:PUBLIC
DTSTAMP:20210909T191032Z
END:VEVENT
END:VCALENDAR