BEGIN:VCALENDAR
VERSION:2.0
PRODID:llida.georgia.gov
X-WR-TIMEZONE:America/New_York
BEGIN:VTIMEZONE
TZID:America/New_York
X-LIC-LOCATION:America/New_York
END:VTIMEZONE
BEGIN:VEVENT
UID:613a946d95bd3
DTSTART;TZID=UTC:20200821T123000
SEQUENCE:0
TRANSP:OPAQUE
DTEND;TZID=UTC:20200821T140000
URL:https://llida.georgia.gov/events/2020-08-21/august-21-2020-lake-lanier-
 islands-development-authority-board-meeting
LOCATION:7000 Lanier Islands Pkwy BUFORD\, GA 30518
SUMMARY:August 21\, 2020 Lake Lanier Islands Development Authority Board Me
 eting
CLASS:PUBLIC
DTSTAMP:20210909T191037Z
END:VEVENT
END:VCALENDAR