BEGIN:VCALENDAR
VERSION:2.0
PRODID:llida.georgia.gov
X-WR-TIMEZONE:America/New_York
BEGIN:VTIMEZONE
TZID:America/New_York
X-LIC-LOCATION:America/New_York
END:VTIMEZONE
BEGIN:VEVENT
UID:613a94738f3be
DTSTART;TZID=UTC:20191213T133000
SEQUENCE:0
TRANSP:OPAQUE
DTEND;TZID=UTC:20191213T153000
URL:https://llida.georgia.gov/events/2019-12-13/board-meeting
LOCATION:7000 Lanier Islands Pkwy BUFORD\, GA 30518
SUMMARY:Board Meeting
CLASS:PUBLIC
DTSTAMP:20210909T191043Z
END:VEVENT
END:VCALENDAR